BEGIN:VCALENDAR
VERSION:2.0
PRODID:-//eventon.com NONSGML v1.0//EN
CALSCALE:GREGORIAN
METHOD:PUBLISH
BEGIN:VEVENT
UID:69e65c62ebb20
DTSTAMP:20260420T170330Z
DTSTART:20241220
DTEND:20241221
LOCATION:
SUMMARY:Weihnachtsprogramm der 12er
DESCRIPTION:... und Schärpenverleihung\nhttps://burgenland-gymnasium.de/Te
 rmine/weihnachtsprogramm-der-12er-2/
URL:https://burgenland-gymnasium.de/Termine/weihnachtsprogramm-der-12er-2/
END:VEVENT
END:VCALENDAR