BEGIN:VCALENDAR
VERSION:2.0
PRODID:-//eventon.com NONSGML v1.0//EN
CALSCALE:GREGORIAN
METHOD:PUBLISH
BEGIN:VEVENT
UID:69ed6e2de3694
DTSTAMP:20260426T014517Z
DTSTART:20241127
DTEND:20241128
LOCATION:
SUMMARY:Cinéfête Leipzig
DESCRIPTION:Französisch-Kurse 9\,  10 und 12\nhttps://burgenland-gymnasium
 .de/Termine/cinefete-leipzig/
URL:https://burgenland-gymnasium.de/Termine/cinefete-leipzig/
END:VEVENT
END:VCALENDAR