BEGIN:VCALENDAR
VERSION:2.0
PRODID:-//eventon.com NONSGML v1.0//EN
CALSCALE:GREGORIAN
METHOD:PUBLISH
BEGIN:VEVENT
UID:69e6a63ad08a4
DTSTAMP:20260420T221834Z
DTSTART:20240411
DTEND:20240412
LOCATION:
SUMMARY:Exkursion "Mensch - Umwelt - Konflikte"
DESCRIPTION:Klassen des Jahrgangs 5 im Naturpark Saale-Unstrut-Triasland\nh
 ttps://burgenland-gymnasium.de/Termine/exkursion-mensch-umwelt-konflikte/
URL:https://burgenland-gymnasium.de/Termine/exkursion-mensch-umwelt-konflikte/
END:VEVENT
END:VCALENDAR