BEGIN:VCALENDAR
VERSION:2.0
PRODID:-//eventon.com NONSGML v1.0//EN
CALSCALE:GREGORIAN
METHOD:PUBLISH
BEGIN:VEVENT
UID:69ea2d1dca693
DTSTAMP:20260423T143053Z
DTSTART:20231218T180000Z
DTEND:20231218T235000Z
LOCATION:
SUMMARY:Vorstellung der "Bühnenstürmer"
DESCRIPTION:\nhttps://burgenland-gymnasium.de/Termine/vorstellung-der-buehn
 enstuermer-2/
URL:https://burgenland-gymnasium.de/Termine/vorstellung-der-buehnenstuermer-2/
END:VEVENT
END:VCALENDAR